BEGIN:VCALENDAR
VERSION:2.0
PRODID:-//ChamberMaster//Event Calendar 2.0//EN
METHOD:PUBLISH
X-PUBLISHED-TTL:P3D
REFRESH-INTERVAL:P3D
CALSCALE:GREGORIAN
BEGIN:VEVENT
DTSTART:20131114T140000Z
DTEND:20131114T150000Z
X-MICROSOFT-CDO-ALLDAYEVENT:FALSE
SUMMARY:Chamber Membership Breakfast
DESCRIPTION:This month's Chamber Breakfast will be hosted by Bridgeway of Bensenville\, located at 303 E. Washington St. in Bensenville\, on Thursday\, November 14\, from 8 to 9 a.m.
X-ALT-DESC;FMTTYPE=text/html:This month&#39\;s Chamber Breakfast will be hosted by Bridgeway of Bensenville\, located at 303 E. Washington St. in Bensenville\, on Thursday\, November 14\, from 8 to 9 a.m.&nbsp\;
LOCATION:303 E. Washington St. Bensenville
UID:e.333.5900
SEQUENCE:3
DTSTAMP:20260422T163118Z
URL:https://chambermaster.elmhurstchamber.org/events/details/chamber-membership-breakfast-11-14-2013-5900
END:VEVENT

END:VCALENDAR
