BEGIN:VCALENDAR
VERSION:2.0
PRODID:-//ChamberMaster//Event Calendar 2.0//EN
METHOD:PUBLISH
X-PUBLISHED-TTL:P3D
REFRESH-INTERVAL:P3D
CALSCALE:GREGORIAN
BEGIN:VEVENT
DTSTART:20121129T140000Z
DTEND:20121129T150000Z
X-MICROSOFT-CDO-ALLDAYEVENT:FALSE
SUMMARY:Chamber Membership Breakfast
DESCRIPTION:This month's Membership Breakfast will be hosted by Church of Our Saviour\, located at 116 E. Church St. in Elmhurst
X-ALT-DESC;FMTTYPE=text/html:This&nbsp\;month&#39\;s Membership Breakfast will&nbsp\;be hosted by Church of Our Saviour\, located at&nbsp\;116 E. Church St. in Elmhurst&nbsp\;&nbsp\;&nbsp\;&nbsp\;&nbsp\;&nbsp\;&nbsp\;&nbsp\;&nbsp\;&nbsp\;&nbsp\;
LOCATION:116 E. Church St. Elmhurst
UID:e.333.4893
SEQUENCE:3
DTSTAMP:20260424T145343Z
URL:https://chambermaster.elmhurstchamber.org/events/details/chamber-membership-breakfast-11-29-2012-4893
END:VEVENT

END:VCALENDAR
