BEGIN:VCALENDAR
VERSION:2.0
PRODID:-//ChamberMaster//Event Calendar 2.0//EN
METHOD:PUBLISH
X-PUBLISHED-TTL:P3D
REFRESH-INTERVAL:P3D
CALSCALE:GREGORIAN
BEGIN:VEVENT
DTSTART:20101208T140000Z
DTEND:20101208T150000Z
X-MICROSOFT-CDO-ALLDAYEVENT:FALSE
SUMMARY:Chamber Membership Breakfast
DESCRIPTION:The Chamber's December Membership Breakfast is being co-hosted by Advanced Rehabilitation Clincs\, Inc. and AccuQuest Hearing Center\, from 8:00 to 9:00 a.m..
X-ALT-DESC;FMTTYPE=text/html:<div>\n	The Chamber&rsquo\;s December Membership Breakfast is being co-hosted by<strong>&nbsp\;Advanced Rehabilitation Clincs\, Inc.&nbsp\;and AccuQuest Hearing Center\, </strong>from 8:00 to 9:00 a.m..<br />\n	<br />\n	&nbsp\;</div>\n
LOCATION:In the lobby of: 533 W. North Ave. Elmhurst\, IL 60126
UID:e.333.3579
SEQUENCE:3
DTSTAMP:20260426T025642Z
URL:https://chambermaster.elmhurstchamber.org/events/details/chamber-membership-breakfast-12-08-2010-3579
END:VEVENT

END:VCALENDAR
