BEGIN:VCALENDAR
VERSION:2.0
PRODID:-//ChamberMaster//Event Calendar 2.0//EN
METHOD:PUBLISH
X-PUBLISHED-TTL:P3D
REFRESH-INTERVAL:P3D
CALSCALE:GREGORIAN
BEGIN:VEVENT
DTSTART:20121212T140000Z
DTEND:20121212T150000Z
X-MICROSOFT-CDO-ALLDAYEVENT:FALSE
SUMMARY:Chamber Membership Breakfast
DESCRIPTION:This month's breakfast will be hosted by the Elmhurst Public Library\, located at 125 S. Prospect\, from 8 to 9 a.m. on Wednesday\, December 12.  \n\n\n\nMessage from the Library:\n\n\n	Bring the documentation listed below to the Chamber Membership Breakfast at the Elmhurst Public Library on Wednesday\, December 12 and we will sign you up for a business card during the breakfast. \n\n	 \n\n	How to get an Elmhurst Public Library card for your business\n\n	 \n\n	To obtain this specialized local use only card designed to support the local businesses\, an authorized agent of the business must submit the request for a card on business letterhead\, and supply a copy of their lease or property tax bill.  Business must be located in incorporated Elmhurst.\n\n	 \n\n	The business or non-profit corporation is responsible for any overdue or Library item charges that accrue on the account. The card must be renewed annually.
X-ALT-DESC;FMTTYPE=text/html:This&nbsp\;month&#39\;s breakfast&nbsp\;will be hosted by the Elmhurst Public Library\, located at&nbsp\;125 S. Prospect\, from&nbsp\;8 to&nbsp\;9 a.m. on Wednesday\, December 12.&nbsp\;&nbsp\;<br />\n<br />\nMessage from the Library:<br />\n<p class="MsoPlainText" style="margin: 0in 0in 0pt">\n	<font size="3"><font color="#000000">Bring the documentation listed below to the Chamber Membership Breakfast at the Elmhurst Public Library on Wednesday\, December 12 and we will sign you up for a business card during the breakfast. <o:p></o:p></font></font></p>\n<p class="MsoPlainText" style="margin: 0in 0in 0pt">\n	<o:p><font color="#000000" size="3">&nbsp\;</font></o:p></p>\n<p class="MsoPlainText" style="margin: 0in 0in 0pt">\n	<font size="3"><font color="#000000">How to get an Elmhurst Public Library card for your business<o:p></o:p></font></font></p>\n<p class="MsoPlainText" style="margin: 0in 0in 0pt">\n	<o:p><font color="#000000" size="3">&nbsp\;</font></o:p></p>\n<p class="MsoPlainText" style="margin: 0in 0in 0pt">\n	<font size="3"><font color="#000000">To obtain this specialized local use only card designed to support the local businesses\, an authorized agent of the business must submit the request for a card on business letterhead\, and supply a copy of their lease or property tax bill.<span style="mso-spacerun: yes">&nbsp\; </span>Business must be located in incorporated Elmhurst.<o:p></o:p></font></font></p>\n<p class="MsoPlainText" style="margin: 0in 0in 0pt">\n	<o:p><font color="#000000" size="3">&nbsp\;</font></o:p></p>\n<p class="MsoPlainText" style="margin: 0in 0in 0pt">\n	<font size="3"><font color="#000000">The business or non-profit corporation is responsible for any overdue or Library item charges that accrue on the account. The card must be renewed annually.<span _fck_bookmark="1" style="display: none">&nbsp\;</span><o:p></o:p></font></font></p>\n
LOCATION:125 S. Prospect Ave. Elmhurst
UID:e.333.4892
SEQUENCE:3
DTSTAMP:20260424T145343Z
URL:https://chambermaster.elmhurstchamber.org/events/details/chamber-membership-breakfast-12-12-2012-4892
END:VEVENT

END:VCALENDAR
