BEGIN:VCALENDAR
VERSION:2.0
PRODID:-//ChamberMaster//Event Calendar 2.0//EN
METHOD:PUBLISH
X-PUBLISHED-TTL:P3D
REFRESH-INTERVAL:P3D
CALSCALE:GREGORIAN
BEGIN:VEVENT
DTSTART:20250722T130000Z
DTEND:20250722T140000Z
X-MICROSOFT-CDO-ALLDAYEVENT:FALSE
SUMMARY:Chamber Membership Breakfast
DESCRIPTION:The Chamber's Membership Breakfast is being hosted by the Elmhurst Park District at the Wilder Formal Gardens on Wednesday July 22\, from 8 to 9 a.m.
X-ALT-DESC;FMTTYPE=text/html:<div><span style="font-size:14px\;">The Chamber&#39\;s&nbsp\;Membership Breakfast is being hosted by the Elmhurst Park District at the&nbsp\;<span data-olk-copy-source="MessageBody" style="margin: 0px\;">Wilder Formal Gardens&nbsp\;</span>on Wednesday&nbsp\;July 22\, from 8&nbsp\;to 9&nbsp\;a.m.</span></div>\n
LOCATION:Wilder Formal Gardens 225 S. Prospect Ave. Elmhurst\, IL 60126
UID:e.333.17025
SEQUENCE:3
DTSTAMP:20260419T184252Z
URL:https://chambermaster.elmhurstchamber.org/events/details/chamber-membership-breakfast-17025
END:VEVENT

END:VCALENDAR
