BEGIN:VCALENDAR
VERSION:2.0
PRODID:-//ChamberMaster//Event Calendar 2.0//EN
METHOD:PUBLISH
X-PUBLISHED-TTL:P3D
REFRESH-INTERVAL:P3D
CALSCALE:GREGORIAN
BEGIN:VEVENT
DTSTART:20260729T130000Z
DTEND:20260729T140000Z
X-MICROSOFT-CDO-ALLDAYEVENT:FALSE
SUMMARY:Chamber Membership Breakfast
DESCRIPTION:Join us for our upcoming Membership Breakfast!\n\n\nThis month's gathering is hosted by the Elmhurst Park District. We look forward to seeing everyone there for a morning of networking and community on Wednesday July 29\, from 8 to 9 a.m. Location TBD
X-ALT-DESC;FMTTYPE=text/html:<p dir="ltr" style="line-height: 1.38\; margin: 0pt -22pt 12pt\; text-align: center\;"><b data-index-in-node="0" data-path-to-node="3">Join us for our upcoming Membership Breakfast!</b></p>\n\n<div>\n<p data-path-to-node="4">This month&rsquo\;s gathering is hosted by the<a href="https://chambermaster.elmhurstchamber.org/list/member/elmhurst-park-district-2074"> <b data-index-in-node="60" data-path-to-node="4">Elmhurst Park District</b></a>. We look forward to seeing everyone there for a morning of networking and community<span style="font-size: 14px\;">&nbsp\;</span><span style="font-size: 14px\;">on Wednesday&nbsp\;July 29\, from 8&nbsp\;to 9&nbsp\;a.m. Location TBD</span></p>\n</div>\n
LOCATION:Location TBD
UID:e.333.17136
SEQUENCE:3
DTSTAMP:20260420T193802Z
URL:https://chambermaster.elmhurstchamber.org/events/details/chamber-membership-breakfast-17136
END:VEVENT

END:VCALENDAR
