BEGIN:VCALENDAR
VERSION:2.0
PRODID:-//ChamberMaster//Event Calendar 2.0//EN
METHOD:PUBLISH
X-PUBLISHED-TTL:P3D
REFRESH-INTERVAL:P3D
CALSCALE:GREGORIAN
BEGIN:VEVENT
DTSTART:20110915T130000Z
DTEND:20110915T140000Z
X-MICROSOFT-CDO-ALLDAYEVENT:FALSE
SUMMARY:Chamber Membership Breakfast/Open House
DESCRIPTION:In celebration of Chamber of Commerce Month\, the September Membership Breakfast will be sponsored by AT&T and SCORE.  It will be held at the Chamber office (242 N. York St.\, Ste. 102)\, on Thursday\, September 15\, from 8:00 to 9:00 a.m.\, and an Open House will be held from 9:00 to 5:00 p.m.\n\n	 \n\n	If you haven't seen our office yet\, stop by and say hello!
X-ALT-DESC;FMTTYPE=text/html:<div>\n	In celebration of Chamber of Commerce Month\, the September Membership Breakfast will be sponsored by <strong>AT&amp\;T</strong> and <strong>SCORE.&nbsp\; </strong>It will be&nbsp\;held at the Chamber office (242 N. York St.\, Ste. 102)\, on Thursday\, September 15\, from 8:00 to 9:00 a.m.\, and an Open House will be held from 9:00 to 5:00 p.m.</div>\n<div>\n	&nbsp\;</div>\n<div>\n	If you haven&#39\;t&nbsp\;seen our office yet\,&nbsp\;stop by and say hello! &nbsp\;</div>
LOCATION:Elmhurst Chamber office242 N. York St.\, Ste. 102Elmhurst\, IL 60126
UID:e.333.4267
SEQUENCE:3
DTSTAMP:20260425T132319Z
URL:https://chambermaster.elmhurstchamber.org/events/details/chamber-membership-breakfast-open-house-09-15-2011-4267
END:VEVENT

END:VCALENDAR
