BEGIN:VCALENDAR
VERSION:2.0
PRODID:-//ChamberMaster//Event Calendar 2.0//EN
METHOD:PUBLISH
X-PUBLISHED-TTL:P3D
REFRESH-INTERVAL:P3D
CALSCALE:GREGORIAN
BEGIN:VEVENT
DTSTART:20110203T140000Z
DTEND:20110203T150000Z
X-MICROSOFT-CDO-ALLDAYEVENT:FALSE
SUMMARY:Chamber Membership Committee Meeting
DESCRIPTION:The Membership Committee will meet at the Chamber office on the first Thursday of each month\, at 8:00 a.m. (unless otherwise indicated).
X-ALT-DESC;FMTTYPE=text/html:<div>\n	The Membership Committee will meet at the Chamber office on the first Thursday of each month\, at 8:00 a.m. (unless otherwise indicated).</div>\n
LOCATION:Chamber office242 N. York St.\, Ste. 102Elmhurst\, IL 60126
UID:e.333.2301
SEQUENCE:3
DTSTAMP:20260425T234037Z
URL:https://chambermaster.elmhurstchamber.org/events/details/chamber-membership-committee-meeting-02-03-2011-2301
END:VEVENT

END:VCALENDAR
