BEGIN:VCALENDAR
VERSION:2.0
PRODID:-//ChamberMaster//Event Calendar 2.0//EN
METHOD:PUBLISH
X-PUBLISHED-TTL:P3D
REFRESH-INTERVAL:P3D
CALSCALE:GREGORIAN
BEGIN:VEVENT
DTSTART:20101104T130000Z
DTEND:20101104T140000Z
X-MICROSOFT-CDO-ALLDAYEVENT:FALSE
SUMMARY:Chamber Membership Committee Meeting
DESCRIPTION:The Membership Committee will meet at the Chamber office on the first Thursday of each month\, at 8:00 a.m. (unless otherwise indicated).
X-ALT-DESC;FMTTYPE=text/html:<div>\n	The Membership Committee will meet at the Chamber office on the first Thursday of each month\, at 8:00 a.m. (unless otherwise indicated).</div>\n
LOCATION:Chamber office242 N. York St.\, Ste. 102Elmhurst\, IL 60126
UID:e.333.2298
SEQUENCE:3
DTSTAMP:20260426T042955Z
URL:https://chambermaster.elmhurstchamber.org/events/details/chamber-membership-committee-meeting-11-04-2010-2298
END:VEVENT

END:VCALENDAR
