BEGIN:VCALENDAR
VERSION:2.0
PRODID:-//ChamberMaster//Event Calendar 2.0//EN
METHOD:PUBLISH
X-PUBLISHED-TTL:P3D
REFRESH-INTERVAL:P3D
CALSCALE:GREGORIAN
BEGIN:VEVENT
DTSTART:20130417T164500Z
DTEND:20130417T180000Z
X-MICROSOFT-CDO-ALLDAYEVENT:FALSE
SUMMARY:Chamber Membership Connections
DESCRIPTION:The bi-monthly Membership Connections\, a lunch and learning with the Chamber Executives\, demonstrate how members and non-members can use the Chamber's programs\, products\, services and events to better their businesses.\n\n\n\nComplimentary food and beverages will be provided.
X-ALT-DESC;FMTTYPE=text/html:The bi-monthly Membership Connections\, a lunch and learning with the Chamber Executives\, demonstrate how members and non-members can use the Chamber&#39\;s programs\, products\, services and events to better their businesses.<br />\n<br />\nComplimentary food and beverages will be provided.&nbsp\;<br />\n<br />\n
LOCATION:Chamber Office 242 N. York St. Elmhurst\, IL 60126
UID:e.333.5141
SEQUENCE:3
DTSTAMP:20260422T194233Z
URL:https://chambermaster.elmhurstchamber.org/events/details/chamber-membership-connections-04-17-2013-5141
END:VEVENT

END:VCALENDAR
