BEGIN:VCALENDAR
VERSION:2.0
PRODID:-//ChamberMaster//Event Calendar 2.0//EN
METHOD:PUBLISH
X-PUBLISHED-TTL:P3D
REFRESH-INTERVAL:P3D
CALSCALE:GREGORIAN
BEGIN:VEVENT
DTSTART:20110921T164500Z
DTEND:20110921T180000Z
X-MICROSOFT-CDO-ALLDAYEVENT:FALSE
SUMMARY:Chamber Membership Connections
DESCRIPTION:The bi-monthly Chamber Membership Connections\, a members-only lunch and learn with Chamber Executives\, will be held at the Chamber office on Wednesday from 11:45 a.m to 1:00 p.m.
X-ALT-DESC;FMTTYPE=text/html:<div>\n	The bi-monthly Chamber Membership Connections\, a members-only lunch and learn with Chamber Executives\, will be held at the Chamber office on Wednesday from 11:45 a.m to 1:00 p.m.&nbsp\;</div>\n
LOCATION:Chamber Office242 N. York St.\, Ste. 102Elmhurst
UID:e.333.3401
SEQUENCE:3
DTSTAMP:20260425T132225Z
URL:https://chambermaster.elmhurstchamber.org/events/details/chamber-membership-connections-09-21-2011-3401
END:VEVENT

END:VCALENDAR
