BEGIN:VCALENDAR
VERSION:2.0
PRODID:-//ChamberMaster//Event Calendar 2.0//EN
METHOD:PUBLISH
X-PUBLISHED-TTL:P3D
REFRESH-INTERVAL:P3D
CALSCALE:GREGORIAN
BEGIN:VEVENT
DTSTART:20111116T140000Z
DTEND:20111116T153000Z
X-MICROSOFT-CDO-ALLDAYEVENT:FALSE
SUMMARY:Chamber Membership Connections
DESCRIPTION:The bi-monthly Chamber Membership Connections\, a members-only lunch and learn with Chamber Executives\, will be held at the Chamber office on Wednesday at 8 am\n	\n		There are many options for involvement at the Chamber\, thus realizing the full advantage of membership. To learn about all of the opportunities\, we invite you to attend Membership Connections. The one-hour session will provide an overview of the networking\, leadership\, and advertising opportunities available to you as a Chamber member.
X-ALT-DESC;FMTTYPE=text/html:<div>\n	The bi-monthly Chamber Membership Connections\, a members-only lunch and learn with Chamber Executives\, will be held at the Chamber office on Wednesday at 8 am\n	<p>\n		<span style="font-size: 12px"><span lang="EN"><font face="Tahoma"><font face="Tahoma"><font face="Tahoma">There are many options for involvement at the Chamber\, thus realizing the full advantage of membership. To learn about all of the opportunities\, we invite you to attend Membership Connections. The one-hour session will provide an overview of the networking\, leadership\, and advertising opportunities available to you as a Chamber member. </font></font></font></span></span></p>\n	<p align="center">\n		&nbsp\;</p>\n	<p align="center">\n		<span lang="EN"><font color="#000080" face="Tahoma" size="2"><font color="#000080" face="Tahoma" size="2"><font color="#000080" face="Tahoma" size="2">&#12288\;</font></font></font></span></p>\n	<p align="center">\n		&#12288\;<span _fck_bookmark="1" style="display: none">&nbsp\;</span></p>\n</div>\n
LOCATION:Chamber Office242 N. York St.\, Ste. 102Elmhurst
UID:e.333.3402
SEQUENCE:3
DTSTAMP:20260425T102612Z
URL:https://chambermaster.elmhurstchamber.org/events/details/chamber-membership-connections-11-16-2011-3402
END:VEVENT

END:VCALENDAR
