BEGIN:VCALENDAR
VERSION:2.0
PRODID:-//ChamberMaster//Event Calendar 2.0//EN
METHOD:PUBLISH
X-PUBLISHED-TTL:P3D
REFRESH-INTERVAL:P3D
CALSCALE:GREGORIAN
BEGIN:VEVENT
DTSTART:20121219T174500Z
DTEND:20121219T190000Z
X-MICROSOFT-CDO-ALLDAYEVENT:FALSE
SUMMARY:Chamber Membership Connections
DESCRIPTION:The bi-monthly Membership Connections\, a lunch and learn with Chamber Executives\, will demonstrate how members and non-members can use the Chamber's programs\, products\, services and events to better market their businesses. \n\n	\n\n	Complimentary food and beverages will be provided.
X-ALT-DESC;FMTTYPE=text/html:<div>\n	The bi-monthly Membership Connections\, a lunch and learn with Chamber Executives\, will&nbsp\;demonstrate how&nbsp\;members and non-members&nbsp\;can use the Chamber&#39\;s programs\, products\, services and events to better market their businesses.&nbsp\;<br />\n	<br />\n	Complimentary food and beverages will be provided.</div>\n
LOCATION:Chamber Office 242 N. York St.\, Ste. 102 Elmhurst
UID:e.333.4819
SEQUENCE:3
DTSTAMP:20260424T132045Z
URL:https://chambermaster.elmhurstchamber.org/events/details/chamber-membership-connections-12-19-2012-4819
END:VEVENT

END:VCALENDAR
