BEGIN:VCALENDAR
VERSION:2.0
PRODID:-//ChamberMaster//Event Calendar 2.0//EN
METHOD:PUBLISH
X-PUBLISHED-TTL:P3D
REFRESH-INTERVAL:P3D
CALSCALE:GREGORIAN
BEGIN:VEVENT
DTSTART:20130115T133000Z
DTEND:20130115T150000Z
X-MICROSOFT-CDO-ALLDAYEVENT:FALSE
SUMMARY:Chamber ''State of Our City'' Mayoral Address - Membership Breakfast
DESCRIPTION:Interim Mayor Scott Levin will deliver the annual "State of Our City" Mayoral Address during the Chamber's January Membership Breakfast hosted by Community Bank of Elmhurst (330 W. Butterfield Rd.) on Tuesday\, January 15\, from 7:30 to 9:30 a.m.  This event is free to attend\, but pre-registration is required.\n\n	 \n\n	There will be a limit of one attendee per member business in order to accommodate the most members possible - a reservation is required.  \n\n	\n\n	For those who can't attend\, the program will air live on the internet via Sunrise Communication at the following link:  http://new.livestream.com/suncominc/events/1714683.\n\n	\n\n	Elmhurst Our Kind of Town will also videotape and rebroadcast the program on cable TV on Channel 6 of Comcast and Channel 99 of U-verse.
X-ALT-DESC;FMTTYPE=text/html:<div>\n	Interim Mayor Scott Levin will deliver the&nbsp\;annual&nbsp\;<strong>&quot\;State of&nbsp\;Our City&quot\; Mayoral Address</strong> during the Chamber&#39\;s January Membership Breakfast hosted by <strong>Community Bank of Elmhurst</strong> (330 W. Butterfield Rd.) on Tuesday\, January 15\,&nbsp\;from 7:30 to 9:30 a.m.&nbsp\; This event is free to attend\, but&nbsp\;pre-registration is required.</div>\n<div>\n	&nbsp\;</div>\n<div>\n	<strong>There will be a limit of one&nbsp\;attendee per member&nbsp\;business in order to accommodate the most members possible - a reservation is required.&nbsp\; </strong><br />\n	<br />\n	For those who can&#39\;t attend\,&nbsp\;the&nbsp\;program will air live on the internet via Sunrise Communication at&nbsp\;the following link:&nbsp\; <a href="http://new.livestream.com/suncominc/events/1714683">http://new.livestream.com/suncominc/events/1714683</a>.<br />\n	<br />\n	Elmhurst Our Kind of Town will also&nbsp\;videotape and&nbsp\;rebroadcast the program on cable TV on Channel 6 of Comcast and Channel 99 of U-verse.</div>\n
LOCATION:Community Bank of Elmhurst 330 W. Butterfield Rd. Elmhurst\, IL 60126 in the George F. Hammersmith Community Room
UID:e.333.4803
SEQUENCE:3
DTSTAMP:20260424T114521Z
URL:https://chambermaster.elmhurstchamber.org/events/details/chamber-state-of-our-city-mayoral-address-membership-breakfast-01-15-2013-4803
END:VEVENT

END:VCALENDAR
