BEGIN:VCALENDAR
VERSION:2.0
PRODID:-//ChamberMaster//Event Calendar 2.0//EN
METHOD:PUBLISH
X-PUBLISHED-TTL:P3D
REFRESH-INTERVAL:P3D
CALSCALE:GREGORIAN
BEGIN:VEVENT
DTSTART:20110118T133000Z
DTEND:20110118T153000Z
X-MICROSOFT-CDO-ALLDAYEVENT:FALSE
SUMMARY:Chamber ''State of Our City'' Mayoral Address - Membership Breakfast
DESCRIPTION:The Chamber's January Membership Breakfast is the "State of Our City" Mayoral Address\, given by the Mayor\, and will be held on Tuesday\, January 18\, 2011\, from 7:30 to 9:30 a.m.  This is hosted by Community Bank of Elmhurst (330 W. Butterfield Rd.) and is a ticket-only event. \n\n	 \n\n	There will be a limit of one ticket per member this year\, in order to accomodate the most members possible.
X-ALT-DESC;FMTTYPE=text/html:<div>\n	The Chamber&rsquo\;s January Membership Breakfast is the <strong>&quot\;State of Our City&quot\; Mayoral Address</strong>\, given by&nbsp\;the Mayor\, and will be held on Tuesday\, January 18\, 2011\, from 7:30 to 9:30 a.m.&nbsp\; This is hosted by <strong>Community Bank of Elmhurst</strong> (330 W. Butterfield Rd.) and is a ticket-only event.&nbsp\;</div>\n<div>\n	&nbsp\;</div>\n<div>\n	<strong>There will be a limit of one ticket per member this year\, in order to accomodate the most members possible.</strong></div>\n
LOCATION:Community Bank of Elmhurst330 W. Butterfield Rd.Elmhurst\, IL 60126 in the George F. Hammersmith Community Room
UID:e.333.3531
SEQUENCE:3
DTSTAMP:20260426T011416Z
URL:https://chambermaster.elmhurstchamber.org/events/details/chamber-state-of-our-city-mayoral-address-membership-breakfast-01-18-2011-3531
END:VEVENT

END:VCALENDAR
