BEGIN:VCALENDAR
VERSION:2.0
PRODID:-//ChamberMaster//Event Calendar 2.0//EN
METHOD:PUBLISH
X-PUBLISHED-TTL:P3D
REFRESH-INTERVAL:P3D
CALSCALE:GREGORIAN
BEGIN:VEVENT
DTSTART:20120516T130000Z
DTEND:20120516T140000Z
X-MICROSOFT-CDO-ALLDAYEVENT:FALSE
SUMMARY:Chamber Trip to Ireland
DESCRIPTION:As part of our Professional Speaker Seminar Series\, Betsy D'Onofrio of Premier World Travel/Chamber Explorations will present a one-hour informational seminar on the Elmhurst Chamber of Commerce & Industry-sponsored Trip to Ireland from November 7-15\, 2012.  To view the trip's calendar listing\, click HERE.\n\n\n\nAttendance will be free to Chamber members and special guests.
X-ALT-DESC;FMTTYPE=text/html:As part of our Professional Speaker Seminar Series\, Betsy D&#39\;Onofrio of Premier World Travel/Chamber Explorations will&nbsp\;present a one-hour informational seminar on the Elmhurst Chamber of Commerce &amp\; Industry-sponsored Trip to Ireland from November 7-15\, 2012.&nbsp\; To view the trip&#39\;s calendar listing\, click <a href="http://chambermaster.elmhurstchamber.org/events/details/ireland-trip-4769">HERE</a>.<br />\n<br />\nAttendance will be free to Chamber members and special guests.&nbsp\; 
LOCATION:Elmhurst Chamber of Commerce & Industry Community Bank of Elmhurst Board Room 242 N York St.\, Ste. 102 Elmhurst\, IL 60126
UID:e.333.4814
SEQUENCE:3
DTSTAMP:20260425T003912Z
URL:https://chambermaster.elmhurstchamber.org/events/details/chamber-trip-to-ireland-05-16-2012-4814
END:VEVENT

END:VCALENDAR
