BEGIN:VCALENDAR
VERSION:2.0
PRODID:-//ChamberMaster//Event Calendar 2.0//EN
METHOD:PUBLISH
X-PUBLISHED-TTL:P3D
REFRESH-INTERVAL:P3D
CALSCALE:GREGORIAN
BEGIN:VEVENT
DTSTART:20120718T130000Z
DTEND:20120718T140000Z
X-MICROSOFT-CDO-ALLDAYEVENT:FALSE
SUMMARY:Chamber Ways and Means Committee
DESCRIPTION:The Chamber Ways and Means Committee will meet at the Chamber office.
X-ALT-DESC;FMTTYPE=text/html:The Chamber Ways and Means Committee will meet at the Chamber office.
LOCATION:Chamber office 242 N. York St\, Ste. 102 Elmhurst\, IL 60126
UID:e.333.4873
SEQUENCE:3
DTSTAMP:20260424T225927Z
URL:https://chambermaster.elmhurstchamber.org/events/details/chamber-ways-and-means-committee-07-18-2012-4873
END:VEVENT

END:VCALENDAR
