BEGIN:VCALENDAR
VERSION:2.0
PRODID:-//ChamberMaster//Event Calendar 2.0//EN
METHOD:PUBLISH
X-PUBLISHED-TTL:P3D
REFRESH-INTERVAL:P3D
CALSCALE:GREGORIAN
BEGIN:VEVENT
DTSTART:20131017T233000Z
DTEND:20131018T001500Z
X-MICROSOFT-CDO-ALLDAYEVENT:FALSE
SUMMARY:CHARACTER COUNTS! - All Six Pillars
DESCRIPTION:Ages 3 and Older\n\n	Celebrate 20 years of CHARACTER COUNTS! with all the schools and the communities around the country.  This fun program will introduce all the animal characters for the Six Pillars of Character.  We will tell stories\, do arts and crafts and learn the Six Pillars: Trustworthiness\, Responsibility\, Respect\, Fairness\, Caring\, and Citizenship.  We will have a T.R.R.F.C.C. time telling stories and making crafts. CHARACTER COUNTS! everyday! Parents must accompany and participate with children.
X-ALT-DESC;FMTTYPE=text/html:<p class="MsoNormal" style="margin: 0in 0in 0pt 0.1in\;">\n	<font color="#000000" face="Calibri" size="3">Ages 3 and Older</font></p>\n<p class="MsoNormal" style="margin: 0in 0in 0pt 0.1in\;">\n	<font color="#000000" face="Calibri" size="3">Celebrate 20 years of CHARACTER COUNTS! with all the schools and the communities around the country.<span style="mso-spacerun: yes\;">&nbsp\; </span>This fun program will introduce all the animal characters for the Six Pillars of Character.<span style="mso-spacerun: yes\;">&nbsp\; </span>We will tell stories\, do arts and crafts and learn the Six Pillars: Trustworthiness\, Responsibility\, Respect\, Fairness\, Caring\, and Citizenship.<span style="mso-spacerun: yes\;">&nbsp\; </span>We will have a T.R.R.F.C.C. time telling stories and making crafts. CHARACTER COUNTS! everyday! Parents must accompany and participate with children.</font></p>\n
LOCATION:Wagner Community Center Elmhurst\, IL 60126
UID:e.333.5574
SEQUENCE:3
DTSTAMP:20260422T111425Z
URL:https://chambermaster.elmhurstchamber.org/events/details/character-counts-all-six-pillars-10-17-2013-5574
END:VEVENT

END:VCALENDAR
