BEGIN:VCALENDAR
VERSION:2.0
PRODID:-//ChamberMaster//Event Calendar 2.0//EN
METHOD:PUBLISH
X-PUBLISHED-TTL:P3D
REFRESH-INTERVAL:P3D
CALSCALE:GREGORIAN
BEGIN:VEVENT
DTSTART:20121018T233000Z
DTEND:20121019T001500Z
X-MICROSOFT-CDO-ALLDAYEVENT:FALSE
SUMMARY:CHARACTER COUNTS! - All Six Pillars
DESCRIPTION:Celebrate CHARACTER COUNTS! and Red Ribbon Week with all the schools and the community. This fun program will introduce all the animal characters of the Six Pillars of Character. There will be story telling\, arts and crafts and learning of the Six Pillars: trustworthiness\, responsibility\, respect\, fairness\, caring and citizenship. CHARACTER COUNTS! everyday!
X-ALT-DESC;FMTTYPE=text/html:<p class="MsoNormal" style="margin: 0in 0in 0pt">\n	<span style="line-height: 115%\; font-family: 'cambria'\, 'serif'\; font-size: 12pt\; mso-ascii-theme-font: major-latin\; mso-hansi-theme-font: major-latin"><font color="#000000">Celebrate CHARACTER COUNTS! and Red Ribbon Week with all the schools and the community. This fun program will introduce all the animal characters of the Six Pillars of Character. There will be story telling\, arts and crafts and learning of the Six Pillars: trustworthiness\, responsibility\, respect\, fairness\, caring and citizenship. CHARACTER COUNTS! everyday! <o:p></o:p></font></span></p>\n
LOCATION:Wagner Community Center
UID:e.333.4904
SEQUENCE:3
DTSTAMP:20260424T162306Z
URL:https://chambermaster.elmhurstchamber.org/events/details/character-counts-all-six-pillars-10-18-2012-4904
END:VEVENT

END:VCALENDAR
