BEGIN:VCALENDAR
VERSION:2.0
PRODID:-//ChamberMaster//Event Calendar 2.0//EN
METHOD:PUBLISH
X-PUBLISHED-TTL:P3D
REFRESH-INTERVAL:P3D
CALSCALE:GREGORIAN
BEGIN:VEVENT
DTSTART:20120721T140000Z
DTEND:20120721T210000Z
X-MICROSOFT-CDO-ALLDAYEVENT:FALSE
SUMMARY:Charity Wax-a-thon & Panty Raid
DESCRIPTION:Charity Wax-a-thon & Panty Raid\n\n	 \n\n	benefiting Kick off for Kids and the Emergency Clothes Closet\n\n	$10 \n\n	Brow Waxes and 10 minute chair massage\n\n	$15\n\n	Bikini Wax\n\n	 Bring in a NEW pair of Women's underwear and get a $10 certificate for your next service!\n\n	Plus RAFFLES\, REFRESHMENTS and GOODIE BAGS!\n\n	Call 630-832-7546 for an appointment\n\n	(walk-ins may be available but not guaranteed!)\n\n	\n\n	\n\n	*Business interested in including special offers in a goodie bag for participants or that would like to donate raffle items please contact Andrea at 630-453-1953
X-ALT-DESC;FMTTYPE=text/html:<h1 style="text-align: center">\n	<em><span style="color: #fff0f5"><strong><span style="background-color: #0000ff">Charity Wax-a-thon &amp\; Panty Raid</span></strong></span></em></h1>\n<p>\n	&nbsp\;</p>\n<p>\n	<i><b>benefiting Kick off for Kids and the Emergency Clothes Closet</b></i></p>\n<p>\n	<span style="text-decoration: underline"><strong>$10</strong> </span></p>\n<p>\n	Brow Waxes and 10 minute chair massage</p>\n<p>\n	<span style="text-decoration: underline"><strong>$15</strong></span></p>\n<p>\n	Bikini Wax</p>\n<p>\n	&nbsp\;Bring in a NEW pair of Women&#39\;s underwear and get a $10 certificate for your next service!</p>\n<p>\n	<em><strong>Plus RAFFLES\, REFRESHMENTS and GOODIE BAGS!</strong></em></p>\n<p>\n	Call<strong> 630-832-7546</strong> for an appointment</p>\n<p>\n	(walk-ins may be available but not guaranteed!)</p>\n<p>\n	<br />\n	<br />\n	*Business interested in including special offers in a goodie bag for participants or that would like to donate raffle items please contact Andrea at 630-453-1953<br />\n	&nbsp\;</p>\n
LOCATION:Essential Skin & Beauty 112 S. York St. Elmhurst\, IL
UID:e.333.4234
SEQUENCE:3
DTSTAMP:20260424T212235Z
URL:https://chambermaster.elmhurstchamber.org/events/details/charity-wax-a-thon-panty-raid-07-21-2012-4234
END:VEVENT

END:VCALENDAR
