BEGIN:VCALENDAR
VERSION:2.0
PRODID:-//ChamberMaster//Event Calendar 2.0//EN
METHOD:PUBLISH
X-PUBLISHED-TTL:P3D
REFRESH-INTERVAL:P3D
CALSCALE:GREGORIAN
BEGIN:VEVENT
DTSTART:20130624T140000Z
DTEND:20130628T200000Z
X-MICROSOFT-CDO-ALLDAYEVENT:FALSE
SUMMARY:Chicago Bears Youth Football Camp
DESCRIPTION:Chicago Bears Youth Football Camps\n\n	Non-Contact Football Instruction for Kids Ages 6-14 \n\n	For Football Skills\, Life Skills and Fun\n\n	Many Convenient Locations \n\n	 \n\n	Visit www.BearsCamps.com or call 312-226-7776\n\n	 \n\n	Kids will learn to run\, throw\, catch\, defend\, form block\, form tackle and explode out of their stance with proper technique and improved speed. We run active camps so kids get multiple chances. With patience and encouragement\, kids gain confidence and that's what it's all about.\n\n	 \n\n	Chicago Bears Heroes\, Pro Coaches\, Football Skill Development\, Nutrition Education\, Skill Challenges\, Team Contests\, Tournament Action\, Championship Friday\, Awards\, Prizes and Fun! \n\n	 \n\n	Three Program Options\n\n	Comprehensive Skills Camps for newcomers\n\n	Accelerated Skills Camps for experienced players\n\n	Private or Small Group Instruction for the most dedicated players\n\n	 \n\n	Learn to play the Chicago Bears Way!\n\n	 \n\n	www.BearsCamps.com\n\n	312-226-7776
X-ALT-DESC;FMTTYPE=text/html:<div>\n	<strong>Chicago Bears Youth Football Camps</strong></div>\n<div>\n	<u>Non-Contact</u> Football Instruction for Kids Ages 6-14&nbsp\;</div>\n<div>\n	For Football Skills\, Life Skills and Fun</div>\n<div>\n	Many Convenient Locations&nbsp\;</div>\n<div>\n	&nbsp\;</div>\n<div>\n	Visit www.BearsCamps.com or call 312-226-7776</div>\n<div>\n	&nbsp\;</div>\n<div>\n	Kids will learn to run\, throw\, catch\, defend\, form block\, form tackle and explode out of their stance with proper technique and improved speed. We run active camps so kids get multiple chances. With patience and encouragement\, kids gain confidence and that&rsquo\;s what it&rsquo\;s all about.</div>\n<div>\n	&nbsp\;</div>\n<div>\n	<strong>Chicago Bears Heroes</strong>\, Pro Coaches\, Football Skill Development\, Nutrition Education\, Skill Challenges\, Team Contests\, Tournament Action\, Championship Friday\, Awards\, Prizes and Fun!&nbsp\;</div>\n<div>\n	&nbsp\;</div>\n<div>\n	Three Program Options</div>\n<div>\n	Comprehensive Skills Camps for newcomers</div>\n<div>\n	Accelerated Skills Camps for experienced players</div>\n<div>\n	Private or Small Group Instruction for the most dedicated players</div>\n<div>\n	&nbsp\;</div>\n<div>\n	Learn to play the <u><strong>Chicago Bears Way!</strong></u></div>\n<div>\n	&nbsp\;</div>\n<div>\n	www.BearsCamps.com</div>\n<div>\n	312-226-7776</div>\n
LOCATION:Elmhurst College Faganal Hall 221 Walter Street Elmhurst\,IL 60126
UID:e.333.5157
SEQUENCE:3
DTSTAMP:20260422T180843Z
URL:https://chambermaster.elmhurstchamber.org/events/details/chicago-bears-youth-football-camp-06-24-2013-5157
END:VEVENT

END:VCALENDAR
