BEGIN:VCALENDAR
VERSION:2.0
PRODID:-//ChamberMaster//Event Calendar 2.0//EN
METHOD:PUBLISH
X-PUBLISHED-TTL:P3D
REFRESH-INTERVAL:P3D
CALSCALE:GREGORIAN
BEGIN:VEVENT
DTSTART:20120625T140000Z
DTEND:20120629T200000Z
X-MICROSOFT-CDO-ALLDAYEVENT:FALSE
SUMMARY:Chicago Bears Youth Football Camps
DESCRIPTION:CHICAGO BEARS YOUTH FOOTBALL CAMPS\n\n	Non-Contact Football Skills for Kids 6-14\n\n	\n\n	Elmhurst College\n\n	Mon. June 25 - Fri. June 29\n\n	9am-3pm\n\n	Learn to run\, throw\, defend and compete the Chicago Bears\n\n	            way!\n\n	Age appropriate\, station-based training delivers results to newcomers and experienced players.\n\n	Providing football instruction\, athletic skill development\, speed training and FUN!\n\n	Featuring Bears Camp Heroes like: Robin Earl\, Kris Haines and Mickey Pruitt.\n\n	\n\n	Comprehensive Skills for Ages 6-14\n\n	Accelerated Skills for Experienced Players Ages 10-14\n\n	NEW: Private and Small Group Instruction\nVisit www.BearsCamps.com or call 312-226-7776
X-ALT-DESC;FMTTYPE=text/html:<p>\n	<st1:city w:st="on"><b><span style="color: #333333\; font-size: 18pt">CHICAGO</span></b></st1:city><b><span style="color: #333333\; font-size: 18pt"> BEARS YOUTH FOOTBALL CAMPS</span></b><br />\n	<b><span style="color: #333333\; font-size: 16pt">Non-Contact Football Skills for Kids 6-14</span></b><br />\n	<br />\n	<st1:place w:st="on"><st1:placename w:st="on"><b><span style="color: #333333\; font-size: 14pt\; mso-no-proof: yes">Elmhurst</span></b></st1:placename><b><span style="color: #333333\; font-size: 14pt\; mso-no-proof: yes"> <st1:placetype w:st="on">College</st1:placetype></span></b></st1:place><br />\n	<b><span style="color: #333333\; font-size: 14pt">Mon. June 25 - Fri. June 29</span></b><br />\n	<span style="color: #333333\; font-size: 14pt"><b>9am-3pm</b></span></p>\n<p style="text-indent: 27.65pt\; margin-left: -27.65pt">\n	<span style="color: #333333">Learn to run\, throw\, defend and compete the Chicago Bears<br />\n	&nbsp\;&nbsp\;&nbsp\;&nbsp\;&nbsp\;&nbsp\;&nbsp\;&nbsp\;&nbsp\;&nbsp\;&nbsp\; way!</span></p>\n<p>\n	<span style="color: #333333">Age appropriate\, station-based training delivers results to newcomers and experienced players.</span></p>\n<p>\n	<span style="color: #333333">Providing football instruction\, athletic skill development\, speed training and FUN!</span></p>\n<p>\n	<span style="color: #333333">Featuring Bears Camp Heroes like: Robin Earl\, Kris Haines and Mickey Pruitt.<br />\n	<br />\n	<a href="http://www.prosportsexperience.com/bears/comprehensive.html">Comprehensive Skills for Ages 6-14</a><br />\n	<a href="http://www.prosportsexperience.com/bears/accelerated.html">Accelerated Skills for Experienced Players Ages 10-14</a><br />\n	<a href="http://www.prosportsexperience.com/bears/privateinstruction.html">NEW: Private and Small Group Instruction</a></span></p>\n<b><span mso-fareast-font-family:="" mso-fareast-language:="" new="" style="font-size: 12pt" times="">Visit <a href="http://www.bearscamps.com/">www.BearsCamps.com</a> or call 312-226-7776</span></b>
LOCATION:Elmhurst College
UID:e.333.4763
SEQUENCE:3
DTSTAMP:20260424T230239Z
URL:https://chambermaster.elmhurstchamber.org/events/details/chicago-bears-youth-football-camps-06-25-2012-4763
END:VEVENT

END:VCALENDAR
