BEGIN:VCALENDAR
VERSION:2.0
PRODID:-//ChamberMaster//Event Calendar 2.0//EN
METHOD:PUBLISH
X-PUBLISHED-TTL:P3D
REFRESH-INTERVAL:P3D
CALSCALE:GREGORIAN
BEGIN:VEVENT
DTSTART:20110718T140000Z
DTEND:20110722T200000Z
X-MICROSOFT-CDO-ALLDAYEVENT:FALSE
SUMMARY:Chicago Bears Youth Football Camps
DESCRIPTION:Mon. July  18 - Fri. July 22\n\n9am-3pm\, $389 Elmhurst\, Elmhurst College 190 Prospect Ave\n\nNon-Contact Football Skills for Kids 6-14\n\nLearn to run\, throw\, defend and compete the Chicago Bears way! Age appropriate\, station-based training delivers results to both advanced players and newcomers. All programs provide football instruction\, athletic skill development\, fitness and agility training. With patience and encouragement\, kids gain confidence\, develop skills and have fun!\n\nComprehensive Instruction for All Ages\n\nAccelerated Skills for Experienced Players\n\nFeaturing Bears Camp Heroes like \n\nRobin Earl\, Mickey Pruitt and Kris Haines\n\nLearn to Play the Chicago Bears Way!\n\n\n\nVisit www.BearsCamps.com\n\nOr call 312-226-7776
X-ALT-DESC;FMTTYPE=text/html:Mon. July  18 - Fri. July 22\n<br>9am-3pm\, $389 Elmhurst\, Elmhurst College 190 Prospect Ave\n<br>Non-Contact Football Skills for Kids 6-14\n<br>Learn to run\, throw\, defend and compete the Chicago Bears way! Age appropriate\, station-based training delivers results to both advanced players and newcomers. All programs provide football instruction\, athletic skill development\, fitness and agility training. With patience and encouragement\, kids gain confidence\, develop skills and have fun!\n<br>Comprehensive Instruction for All Ages\n<br>Accelerated Skills for Experienced Players\n<br>Featuring Bears Camp Heroes like \n<br>Robin Earl\, Mickey Pruitt and Kris Haines\n<br>Learn to Play the Chicago Bears Way!\n<br>\n<br>Visit www.BearsCamps.com\n<br>Or call 312-226-7776\n<br>
LOCATION:Elmhurst\, Elmhurst College 190 Prospect Ave
UID:e.333.3675
SEQUENCE:3
DTSTAMP:20260425T161857Z
URL:https://chambermaster.elmhurstchamber.org/events/details/chicago-bears-youth-football-camps-07-18-2011-3675
END:VEVENT

END:VCALENDAR
