BEGIN:VCALENDAR
VERSION:2.0
PRODID:-//ChamberMaster//Event Calendar 2.0//EN
METHOD:PUBLISH
X-PUBLISHED-TTL:P3D
REFRESH-INTERVAL:P3D
CALSCALE:GREGORIAN
BEGIN:VEVENT
DTSTART:20121201T213000Z
DTEND:20121202T010000Z
X-MICROSOFT-CDO-ALLDAYEVENT:FALSE
SUMMARY:Chicago Children's Choir Holiday Concert At Elmhurst's Bethel UCC
DESCRIPTION:The world-renowned Chicago Children's Choir is returning to Bethel United Church of Christ in Elmhurst to perform two "Christmas Celebration" concerts on Saturday December 1\, 3:30pm and 7:00pm. These exclusive concerts will be the only Christmas concert open to the public this yeah in the Chicagoland by Chicago Children's Choir's elite Concert Choir.
X-ALT-DESC;FMTTYPE=text/html:The world-renowned Chicago Children&#39\;s Choir is returning to Bethel United Church of Christ in Elmhurst to perform two &quot\;Christmas Celebration&quot\; concerts on Saturday December 1\, 3:30pm and 7:00pm. These exclusive concerts will be the only Christmas concert open to the public this yeah in the Chicagoland&nbsp\;by Chicago Children&#39\;s Choir&#39\;s elite Concert Choir.&nbsp\;
LOCATION:Bethel United Church of Christ 315 E. St. Charles Rd. Elmhurst\, IL 60126
UID:e.333.5103
SEQUENCE:3
DTSTAMP:20260424T132940Z
URL:https://chambermaster.elmhurstchamber.org/events/details/chicago-children-s-choir-holiday-concert-at-elmhurst-s-bethel-ucc-12-01-2012-5103
END:VEVENT

END:VCALENDAR
