BEGIN:VCALENDAR
VERSION:2.0
PRODID:-//ChamberMaster//Event Calendar 2.0//EN
METHOD:PUBLISH
X-PUBLISHED-TTL:P3D
REFRESH-INTERVAL:P3D
CALSCALE:GREGORIAN
BEGIN:VEVENT
DTSTART:20120920T182000Z
DTEND:20120920T212000Z
X-MICROSOFT-CDO-ALLDAYEVENT:FALSE
SUMMARY:Chicago Cubs vs. Cincinnati Reds
DESCRIPTION:Join Elmhurst Chamber members and their families for group outings to the beautiful confines of Chicago's Wrigley Field (200 level terrace reserved seats).  Transportation and parking not included. \n\n\n\nChicago Cubs will play the Cincinnati Reds on Thursday\, September 20 starting at 1:20 p.m.  Tickets are $12 per person ($24 value). \n\n\n\nTickets available on a first come first serve basis.  Ticket sales end Friday April 13\, 2012
X-ALT-DESC;FMTTYPE=text/html:Join Elmhurst Chamber members and their families for group outings to the beautiful confines of Chicago&#39\;s Wrigley Field (200 level terrace reserved seats).&nbsp\; Transportation and parking not included.&nbsp\;<br />\n<br />\nChicago Cubs&nbsp\;will play the&nbsp\;Cincinnati Reds on&nbsp\;Thursday\, September&nbsp\;20 starting at 1:20 p.m.&nbsp\; Tickets are $12 per person ($24 value).&nbsp\;<br />\n<br />\n<span style="font-size: 14px"><span style="color: #ff0000">Tickets available on a first come first serve basis.&nbsp\; Ticket sales end Friday April 13\, 2012&nbsp\;</span></span>
LOCATION:Wrigley Field
UID:e.333.4800
SEQUENCE:3
DTSTAMP:20260424T175543Z
URL:https://chambermaster.elmhurstchamber.org/events/details/chicago-cubs-vs-cincinnati-reds-09-20-2012-4800
END:VEVENT

END:VCALENDAR
