BEGIN:VCALENDAR
VERSION:2.0
PRODID:-//ChamberMaster//Event Calendar 2.0//EN
METHOD:PUBLISH
X-PUBLISHED-TTL:P3D
REFRESH-INTERVAL:P3D
CALSCALE:GREGORIAN
BEGIN:VEVENT
DTSTART:20120504T182000Z
DTEND:20120504T212000Z
X-MICROSOFT-CDO-ALLDAYEVENT:FALSE
SUMMARY:Chicago Cubs vs. Los Angeles Dodgers
DESCRIPTION:Join Elmhurst Chamber members and their families for group outings to the beautiful confines of Chicago's Wrigley Field (200 level terrace reserved seats).  Transportation and parking not included. \n\n\n\nChicago Cubs will play the Los Angeles Dodgers on Friday April 20 starting at 1:20 p.m.  Tickets are $16 per person ($32 value). \n\n\n\nTickets available on a first come first serve basis. Ticket sales end Friday April 13\, 2012.
X-ALT-DESC;FMTTYPE=text/html:Join Elmhurst Chamber members and their families for group outings to the beautiful confines of Chicago&#39\;s Wrigley Field (200 level terrace reserved seats).&nbsp\; Transportation and parking not included.&nbsp\;<br />\n<br />\nChicago Cubs&nbsp\;will play the Los Angeles&nbsp\;Dodgers on Friday April 20 starting at 1:20 p.m.&nbsp\; Tickets are $16 per person ($32 value).&nbsp\;<br />\n<br />\n<span style="color: #ff0000"><span style="font-size: 14px">Tickets&nbsp\;available on a first come first serve basis. Ticket sales end&nbsp\;Friday April 13\, 2012.</span></span>
LOCATION:Wrigley Field
UID:e.333.4798
SEQUENCE:3
DTSTAMP:20260425T021935Z
URL:https://chambermaster.elmhurstchamber.org/events/details/chicago-cubs-vs-los-angeles-dodgers-05-04-2012-4798
END:VEVENT

END:VCALENDAR
