BEGIN:VCALENDAR
VERSION:2.0
PRODID:-//ChamberMaster//Event Calendar 2.0//EN
METHOD:PUBLISH
X-PUBLISHED-TTL:P3D
REFRESH-INTERVAL:P3D
CALSCALE:GREGORIAN
BEGIN:VEVENT
DTSTART:20120518T000500Z
DTEND:20120518T030500Z
X-MICROSOFT-CDO-ALLDAYEVENT:FALSE
SUMMARY:Chicago Cubs vs. Philadelphia Phillies
DESCRIPTION:Join Elmhurst Chamber members and their families for group outings to the beautiful confines of Chicago's Wrigley Field (200 level terrace reserved seats).  Transportation and parking not included. \n\n\n\nChicago Cubs will play the Philadelphia Phillies on Thursday\, May 17 starting at 7:05 p.m.  Tickets are $20 per person ($40 value). \n\n\n\nTickets available on a first come first serve basis.  Ticket sales end Friday April 13\, 2012.
X-ALT-DESC;FMTTYPE=text/html:Join Elmhurst Chamber members and their families for group outings to the beautiful confines of Chicago&#39\;s Wrigley Field (200 level terrace reserved seats).&nbsp\; Transportation and parking not included.&nbsp\;<br />\n<br />\nChicago Cubs&nbsp\;will play the&nbsp\;Philadelphia&nbsp\;Phillies&nbsp\;on&nbsp\;Thursday\,&nbsp\;May 17&nbsp\;starting at&nbsp\;7:05 p.m.&nbsp\; Tickets are $20 per person ($40 value).&nbsp\;<br />\n<br />\n<span style="color: #ff0000"><span style="font-size: 14px">Tickets available on a first come first serve basis.&nbsp\; Ticket sales end Friday&nbsp\;April 13\, 2012.</span></span><br />\n
LOCATION:Wrigley Field
UID:e.333.4799
SEQUENCE:3
DTSTAMP:20260425T021953Z
URL:https://chambermaster.elmhurstchamber.org/events/details/chicago-cubs-vs-philadelphia-phillies-05-17-2012-4799
END:VEVENT

END:VCALENDAR
