BEGIN:VCALENDAR
VERSION:2.0
PRODID:-//ChamberMaster//Event Calendar 2.0//EN
METHOD:PUBLISH
X-PUBLISHED-TTL:P3D
REFRESH-INTERVAL:P3D
CALSCALE:GREGORIAN
BEGIN:VEVENT
DTSTART:20110503T000500Z
DTEND:20110503T030000Z
X-MICROSOFT-CDO-ALLDAYEVENT:FALSE
SUMMARY:Chorus and quartets gear up for regional competition
DESCRIPTION:Community members are invited to an evening of music\, entertainment and refreshment during a free\, special event held by the Choral-Aires Chorus\, at 7:05 p.m.\, Monday\, May 2. The award-winning Sweet Adelines Chorus is hosting a "Quartet Send Off" at the Redeemer Lutheran Church Recreation Center (345 S. Kenilworth Avenue\, Elmhurst)\, in preparation of regional competition\, held in May.\n\n\n\nThe night promises excellent and varied music packages performed by six quartets Reverb\, Brilliance\, On Q\, Pipe Dreams\, Roxy and Knee Deep\, and the Chorus. With all participants preparing for competition\, they are ready to wow audience members with their energy\, dynamic harmonies\, and their tightly choreographed moves.\n\n\n\nMore than 100 women from Illinois\, Indiana and Wisconsin sing tight harmonies a capella (without instrumentation) with the Choral-Aires Chorus\, the 2008 Lake Michigan Region 3 Champion with the Sweet Adelines International. This program is partially supported by a grant from the Illinois Arts Council\, a state agency. More information about the Chorus can be found at their website\, http://choral-aires.com.
X-ALT-DESC;FMTTYPE=text/html:Community members are invited to an evening of music\, entertainment and refreshment during a free\, special event held by the Choral-Aires Chorus\, at 7:05 p.m.\, Monday\, May 2. The award-winning Sweet Adelines Chorus is hosting a &quot\;Quartet Send Off&quot\; at the Redeemer Lutheran Church Recreation Center (345 S. Kenilworth Avenue\, Elmhurst)\, in preparation of regional competition\, held in May.<br />\n<br />\nThe night promises excellent and varied music packages performed by six quartets Reverb\, Brilliance\, On Q\, Pipe Dreams\, Roxy and Knee Deep\, and the Chorus. With all participants preparing for competition\, they are ready to wow audience members with their energy\, dynamic harmonies\, and their tightly choreographed moves.<br />\n<br />\nMore than 100 women from Illinois\, Indiana and Wisconsin sing tight harmonies a capella (without instrumentation) with the Choral-Aires Chorus\, the 2008 Lake Michigan Region 3 Champion with the Sweet Adelines International. This program is partially supported by a grant from the Illinois Arts Council\, a state agency. More information about the Chorus can be found at their website\, http://choral-aires.com.<br />\n
LOCATION:Redeemer Lutheran Church Recreation Center
UID:e.333.4188
SEQUENCE:3
DTSTAMP:20260425T192338Z
URL:https://chambermaster.elmhurstchamber.org/events/details/chorus-and-quartets-gear-up-for-regional-competition-05-02-2011-4188
END:VEVENT

END:VCALENDAR
