BEGIN:VCALENDAR
VERSION:2.0
PRODID:-//ChamberMaster//Event Calendar 2.0//EN
METHOD:PUBLISH
X-PUBLISHED-TTL:P3D
REFRESH-INTERVAL:P3D
CALSCALE:GREGORIAN
BEGIN:VEVENT
DTSTART:20120317T160000Z
DTEND:20120317T190000Z
X-MICROSOFT-CDO-ALLDAYEVENT:FALSE
SUMMARY:Chorus hosts 25th annual fashion show
DESCRIPTION:Community members are invited to attend the 25th annual fashion show presented by the award-winning Choral-Aires Chorus and Zzazz Productions. The fashion show\, "Once Upon A Time" held at Drury Lane\, 11 a.m.\, Saturday\, March 17\, offers attendees an afternoon of delicious food\, excellent music\, raffle prizes and much more. Tickets cost $40 and can be ordered by contacting Linda Butler at 847.577.7293 or lfbutler@msn.com.\n\n\n\nWomen passionate about music are invited to join the Choral-Aires Chorus during weekly rehearsals held each Monday from 7 to 10 p.m.\, at the Redeemer Lutheran Church Recreation Center (345 S. Kenilworth Avenue\, Elmhurst). For more information\, contact Valerie Baxter at 630.279.1439 or vbaxter@sbcglobal.net.\n\n\n\nMore than 100 women from Illinois\, Indiana and Wisconsin sing tight harmonies a cappella (without instrumentation) with the Choral-Aires Chorus\, a Sweet Adelines International medaling chorus\, and the 2008 Lake Michigan Region 3 Champion. This program is partially supported by a grant from the Illinois Arts Council\, a state agency. More information about the Chorus can be found at their website\, http://choral-aires.com.
X-ALT-DESC;FMTTYPE=text/html:Community members are invited to attend the 25th annual fashion show presented by the award-winning Choral-Aires Chorus and Zzazz Productions. The fashion show\, &ldquo\;Once Upon A Time&rdquo\; held at Drury Lane\, 11 a.m.\, Saturday\, March 17\, offers attendees an afternoon of delicious food\, excellent music\, raffle prizes and much more. Tickets cost $40 and can be ordered by contacting Linda Butler at 847.577.7293 or lfbutler@msn.com.<br />\n<br />\nWomen passionate about music are invited to join the Choral-Aires Chorus during weekly rehearsals held each Monday from 7 to 10 p.m.\, at the Redeemer Lutheran Church Recreation Center (345 S. Kenilworth Avenue\, Elmhurst). For more information\, contact Valerie Baxter at 630.279.1439 or vbaxter@sbcglobal.net.<br />\n<br />\nMore than 100 women from Illinois\, Indiana and Wisconsin sing tight harmonies a cappella (without instrumentation) with the Choral-Aires Chorus\, a Sweet Adelines International medaling chorus\, and the 2008 Lake Michigan Region 3 Champion. This program is partially supported by a grant from the Illinois Arts Council\, a state agency. More information about the Chorus can be found at their website\, http://choral-aires.com.<br />\n<br />\n&nbsp\;
LOCATION:Drury Lane\, Oakbrook Terrace
UID:e.333.4801
SEQUENCE:3
DTSTAMP:20260425T035822Z
URL:https://chambermaster.elmhurstchamber.org/events/details/chorus-hosts-25th-annual-fashion-show-03-17-2012-4801
END:VEVENT

END:VCALENDAR
