BEGIN:VCALENDAR
VERSION:2.0
PRODID:-//ChamberMaster//Event Calendar 2.0//EN
METHOD:PUBLISH
X-PUBLISHED-TTL:P3D
REFRESH-INTERVAL:P3D
CALSCALE:GREGORIAN
BEGIN:VEVENT
DTSTART:20110315T000000Z
DTEND:20110315T030000Z
X-MICROSOFT-CDO-ALLDAYEVENT:FALSE
SUMMARY:Chorus Looking for New Members
DESCRIPTION:The Choral-Aires Chorus is looking for singers to join its quest to earn a medal at the 2011 Sweet Adelines International Competition held in October in Houston\, Texas. Women of all ages desiring to be a part of this outstanding chorus are invited to join the Choral-Aires for weekly rehearsals\, held Mondays from 7 to 10 p.m\, at the Redeemer Lutheran Church Recreation Center (345 S. Kenilworth Avenue\, Elmhurst). For more information\, contact Jane Toftey at 630.665.8387.\n\n\n\nMore than 100 women from Illinois\, Indiana and Wisconsin sing tight harmonies a capella (without instrumentation) with the Choral-Aires Chorus\, the 2008 Lake Michigan Region 3 Champion with the Sweet Adelines International. This program is partially supported by a grant from the Illinois Arts Council\, a state agency. More information about the Chorus can be found at their website\, http://choral-aires.com.
X-ALT-DESC;FMTTYPE=text/html:The Choral-Aires Chorus is looking for singers to join its quest to earn a medal at the 2011 Sweet Adelines International Competition held in October in Houston\, Texas. Women of all ages desiring to be a part of this outstanding chorus are invited to join the Choral-Aires for weekly rehearsals\, held Mondays from 7 to 10 p.m\, at the Redeemer Lutheran Church Recreation Center (345 S. Kenilworth Avenue\, Elmhurst). For more information\, contact Jane Toftey at 630.665.8387.<br />\n<br />\nMore than 100 women from Illinois\, Indiana and Wisconsin sing tight harmonies a capella (without instrumentation) with the Choral-Aires Chorus\, the 2008 Lake Michigan Region 3 Champion with the Sweet Adelines International. This program is partially supported by a grant from the Illinois Arts Council\, a state agency. More information about the Chorus can be found at their website\, http://choral-aires.com. 
LOCATION:Redeemer Lutheran Church Recreation Center 345 S. Kenilworth Elmhurst\, IL 60126
UID:e.333.3530
SEQUENCE:3
DTSTAMP:20260425T222010Z
URL:https://chambermaster.elmhurstchamber.org/events/details/chorus-looking-for-new-members-03-14-2011-3530
END:VEVENT

END:VCALENDAR
