BEGIN:VCALENDAR
VERSION:2.0
PRODID:-//ChamberMaster//Event Calendar 2.0//EN
METHOD:PUBLISH
X-PUBLISHED-TTL:P3D
REFRESH-INTERVAL:P3D
CALSCALE:GREGORIAN
BEGIN:VEVENT
DTSTART:20130124T010000Z
DTEND:20130124T030000Z
X-MICROSOFT-CDO-ALLDAYEVENT:FALSE
SUMMARY:Christian Unity Week Service
DESCRIPTION:Come and join the churches of Elmhurst in celebrating the Week of Prayer for Christian Unity with an Ecumenical Worship Service on Wednesday\, January 23\, 2013 at 7:00 pm at St. Peter's United Church of Christ (UCC). The Church is located at 125 W. Church Street\, the Northeast corner of Cottage Hill and Church Street in Elmhurst.\n\n\n\nEveryone in the community is invited to attend. The various churches usually worship separately\, but they share a common gospel and mission. The January 23 service will celebrate that mission and is designed to strengthen their unity by coming together. The global theme for this year was prepared in solidarity with the Dalit Christians of India: "This is what Yahweh asks of you: to act justly\, to love tenderly\, and to walk humbly with your God."\n\n\n\nThe service has been planned by a number of churches in the community. Members of all Elmhurst churches and neighboring communities have been invited and many are expected to participate.\n\n\n\nDaniel Caudy of St. Peter's United Church of Christ will be the host and will welcome people to the church. Pastors from the First Methodist Church\, Immaculate Conception Church\, and the Church of Our Saviour\, will preside.\n\n\n\nIf you have any questions\, please call the Episcopal Church of Our Saviour at 630-530-1434.
X-ALT-DESC;FMTTYPE=text/html:Come and join the churches of Elmhurst in celebrating the Week of Prayer for Christian Unity with an Ecumenical Worship Service on Wednesday\, January 23\, 2013 at 7:00 pm at St. Peter&rsquo\;s United Church of Christ (UCC). The Church is located at 125 W. Church Street\, the Northeast corner of Cottage Hill and Church Street in Elmhurst.<br />\n<br />\nEveryone in the community is invited to attend. The various churches usually worship separately\, but they share a common gospel and mission. The January 23 service will celebrate that mission and is designed to strengthen their unity by coming together. The global theme for this year was prepared in solidarity with the Dalit Christians of India: &ldquo\;This is what Yahweh asks of you: to act justly\, to love tenderly\, and to walk humbly with your God.&rdquo\;<br />\n<br />\nThe service has been planned by a number of churches in the community. Members of all Elmhurst churches and neighboring communities have been invited and many are expected to participate.<br />\n<br />\nDaniel Caudy of St. Peter&rsquo\;s United Church of Christ will be the host and will welcome people to the church. Pastors from the First Methodist Church\, Immaculate Conception Church\, and the Church of Our Saviour\, will preside.<br />\n<br />\nIf you have any questions\, please call the Episcopal Church of Our Saviour at 630-530-1434.<br />\n
LOCATION:St. Peter's United Church of Christ (UCC)\, 125 W. Church Street\, Elmhurst\, IL
UID:e.333.5158
SEQUENCE:3
DTSTAMP:20260424T114126Z
URL:https://chambermaster.elmhurstchamber.org/events/details/christian-unity-week-service-01-23-2013-5158
END:VEVENT

END:VCALENDAR
