BEGIN:VCALENDAR
VERSION:2.0
PRODID:-//ChamberMaster//Event Calendar 2.0//EN
METHOD:PUBLISH
X-PUBLISHED-TTL:P3D
REFRESH-INTERVAL:P3D
CALSCALE:GREGORIAN
BEGIN:VEVENT
DTSTART:20121224T231500Z
DTEND:20121225T001000Z
X-MICROSOFT-CDO-ALLDAYEVENT:FALSE
SUMMARY:Christmas Eve @ Journey Church
DESCRIPTION:December 24th @ 5:15 PM\n\n\n\nJoin us for a very special Christmas Eve @ Journey family service as we celebrate the EPIC story of the birth of Jesus Christ! We encourage you to invite your family\, friends\, neighbors\, & co-workers to join us at The Waterford Conference Center for a Christmas Eve experience you will never forget! All are welcome! Child care will be provided for birth   2 years old. Hope to see you there!\n\n\n\n    www.JourneyChurchElmhurst.com
X-ALT-DESC;FMTTYPE=text/html:December 24th @ 5:15 PM<br />\n<br />\nJoin us for a very special <strong>Christmas Eve @ Journey</strong> family service as we celebrate the EPIC story of the birth of Jesus Christ! We encourage you to invite your family\, friends\, neighbors\, &amp\; co-workers to join us at The Waterford Conference Center for a Christmas Eve experience you will never forget! All are welcome! Child care will be provided for birth &ndash\; 2 years old. Hope to see you there!<br />\n<br />\n&nbsp\;&nbsp\;&nbsp\;&nbsp\;www.JourneyChurchElmhurst.com
LOCATION:Waterford Conference Center 933 S Riverside Drive Elmhurst\, IL 60126 (Across from the Wal-Mart on Hwy. 83)
UID:e.333.5150
SEQUENCE:3
DTSTAMP:20260424T132251Z
URL:https://chambermaster.elmhurstchamber.org/events/details/christmas-eve-journey-church-12-24-2012-5150
END:VEVENT

END:VCALENDAR
