BEGIN:VCALENDAR
VERSION:2.0
PRODID:-//ChamberMaster//Event Calendar 2.0//EN
METHOD:PUBLISH
X-PUBLISHED-TTL:P3D
REFRESH-INTERVAL:P3D
CALSCALE:GREGORIAN
BEGIN:VEVENT
DTSTART:20120715T180000Z
DTEND:20120715T220000Z
X-MICROSOFT-CDO-ALLDAYEVENT:FALSE
SUMMARY:Christmas in July
DESCRIPTION:Celebrate Christmas without the cold and snow! Come join the Elmhurst Park District Pool staff and celebrate Christmas in July. There will be a variety of reindeer games\, a Christmas Trivia contest\, and even a visit from Santa. DJ Stevie D will be there to set the mood with Christmas music.
X-ALT-DESC;FMTTYPE=text/html:<p class="MsoNormal" style="margin: 0in 0in 10pt">\n	<span style="font-family: 'cambria'\, 'serif'\; mso-ascii-theme-font: major-latin\; mso-hansi-theme-font: major-latin"><font size="3"><font color="#000000">Celebrate Christmas without the cold and snow! Come join the Elmhurst Park District Pool staff and celebrate Christmas in July. There will be a variety of reindeer games\, a Christmas Trivia contest\, and even a visit from Santa. DJ Stevie D will be there to set the mood with Christmas music.<o:p></o:p></font></font></span></p>\n
LOCATION:East End Pool
UID:e.333.4859
SEQUENCE:3
DTSTAMP:20260424T225829Z
URL:https://chambermaster.elmhurstchamber.org/events/details/christmas-in-july-07-15-2012-4859
END:VEVENT

END:VCALENDAR
