BEGIN:VCALENDAR
VERSION:2.0
PRODID:-//ChamberMaster//Event Calendar 2.0//EN
METHOD:PUBLISH
X-PUBLISHED-TTL:P3D
REFRESH-INTERVAL:P3D
CALSCALE:GREGORIAN
BEGIN:VEVENT
DTSTART:20130728T180000Z
DTEND:20130728T220000Z
X-MICROSOFT-CDO-ALLDAYEVENT:FALSE
SUMMARY:Christmas in July
DESCRIPTION:Families come and join the Elmhurst Park District Staff as we celebrate Christmas in warmer temperatures this year!  There will be a variety of Reindeer games\, a Christmas Trivia contest\, and even a visit from Santa.  DJ Stevie D will be there to set the mood with Christmas music.  Don't miss this fun filled event for all ages!  \n\n	Fee: Free to participate\, must pay regular admission fee if not a pool pass holder.
X-ALT-DESC;FMTTYPE=text/html:<p class="MsoNormal" style="margin: 0in 0in 0pt 0.1in\;">\n	<font size="3"><font color="#000000"><font face="Calibri">Families come and join the Elmhurst Park District Staff as we celebrate Christmas in warmer temperatures this year!<span style="mso-spacerun: yes\;">&nbsp\; </span>There will be a variety of Reindeer games\, a Christmas Trivia contest\, and even a visit from Santa.<span style="mso-spacerun: yes\;">&nbsp\; </span>DJ Stevie D will be there to set the mood with Christmas music.<span style="mso-spacerun: yes\;">&nbsp\; </span>Don&rsquo\;t miss this fun filled event for all ages!<span style="mso-spacerun: yes\;">&nbsp\; </span></font></font></font></p>\n<p class="MsoNormal" style="margin: 0in 0in 0pt 0.1in\;">\n	<font color="#000000" face="Calibri" size="3">Fee: Free to participate\, must pay regular admission fee if not a pool pass holder.</font></p>\n
LOCATION:East End Pool
UID:e.333.5305
SEQUENCE:3
DTSTAMP:20260422T153527Z
URL:https://chambermaster.elmhurstchamber.org/events/details/christmas-in-july-07-28-2013-5305
END:VEVENT

END:VCALENDAR
