BEGIN:VCALENDAR
VERSION:2.0
PRODID:-//ChamberMaster//Event Calendar 2.0//EN
METHOD:PUBLISH
X-PUBLISHED-TTL:P3D
REFRESH-INTERVAL:P3D
CALSCALE:GREGORIAN
BEGIN:VEVENT
DTSTART:20120704T150000Z
DTEND:20120704T170000Z
X-MICROSOFT-CDO-ALLDAYEVENT:FALSE
SUMMARY:Classic Cinemas $1 Kid-Friendly Movie Series!
DESCRIPTION:York Theatre /Classic Cinemas presents the $1 Movie Series!\n\n\n\nEach Wednesday morning from June 13 to August 8\, York Theatre will present a family friendly G or PG rated film with admission of just $1 per person!  All films will be shown using state-of-the-art digital 4k projection and sound.  Showtime is each morning at 10 am.  The doors open at 9 am\, and movie goers are encouraged to come early to meet costume characters and participate in games and other fun activities!\n\n\n\nThe Movie Schedule is as follows:\n\n\n\nJune 13 - "Kung Fu Panda 2"\n\n\n\nJune 20 - "Mr. Popper's Penguins"\n\n\n\nJune 27 - "Puss in Boots"\n\n\n\nJuly 11 - "Alvin and the Chipmunks: Chipwrecked"\n\n\n\nJuly 18 - "Arthur Christmas"\n\n\n\nJuly 25 - "The Smurfs"\n\n\n\nAugust 1 - "Disney's Winnie the Pooh"\n\n\n\nAugust 8 - Surprise Movie
X-ALT-DESC;FMTTYPE=text/html:York Theatre /Classic Cinemas presents the&nbsp\;$1 Movie Series!<br />\n<br />\nEach Wednesday&nbsp\;morning from June 13 to August 8\,&nbsp\;York Theatre will present a&nbsp\;family friendly G or&nbsp\;PG rated film with admission of&nbsp\;just $1 per person!&nbsp\; All films will be shown&nbsp\;using state-of-the-art digital 4k projection and sound.&nbsp\; Showtime is&nbsp\;each morning at 10 am.&nbsp\; The doors open at&nbsp\;9 am\, and&nbsp\;movie goers are encouraged to come early to meet costume&nbsp\;characters and&nbsp\;participate&nbsp\;in games&nbsp\;and&nbsp\;other fun activities!<br />\n<br />\nThe Movie&nbsp\;Schedule&nbsp\;is as follows:<br />\n<br />\nJune 13&nbsp\;- &quot\;Kung Fu Panda 2&quot\;<br />\n<br />\nJune&nbsp\;20 -&nbsp\;&quot\;Mr. Popper&#39\;s Penguins&quot\;<br />\n<br />\nJune 27 - &quot\;Puss in Boots&quot\;<br />\n<br />\nJuly 11&nbsp\;- &quot\;Alvin and the Chipmunks: Chipwrecked&quot\;<br />\n<br />\nJuly 18 -&nbsp\;&quot\;Arthur Christmas&quot\;<br />\n<br />\nJuly 25 - &quot\;The&nbsp\;Smurfs&quot\;<br />\n<br />\nAugust&nbsp\;1 -&nbsp\;&quot\;Disney&#39\;s Winnie the Pooh&quot\;<br />\n<br />\nAugust 8 -&nbsp\;Surprise&nbsp\;Movie&nbsp\;&nbsp\;&nbsp\;<br />\n<br />\n
LOCATION:York Theatre 150 N. York St. Elmhurst
UID:e.333.4885
SEQUENCE:3
DTSTAMP:20260424T212640Z
URL:https://chambermaster.elmhurstchamber.org/events/details/classic-cinemas-1-kid-friendly-movie-series-07-04-2012-4885
END:VEVENT

END:VCALENDAR
