BEGIN:VCALENDAR
VERSION:2.0
PRODID:-//ChamberMaster//Event Calendar 2.0//EN
METHOD:PUBLISH
X-PUBLISHED-TTL:P3D
REFRESH-INTERVAL:P3D
CALSCALE:GREGORIAN
BEGIN:VEVENT
DTSTART:20130501T210000Z
DTEND:20130502T000000Z
X-MICROSOFT-CDO-ALLDAYEVENT:FALSE
SUMMARY:Club Fitting/Demo Days
DESCRIPTION:Come out and try the newest technology in the game.  Properly fitted equipment is guaranteed to make a difference in your game.  Special pricing will be available during the demo days.  Leading golf club manufacturers will have their latest equipment available for men\, women\, youth\, and seniors to demo.  Please visit our website for dates and times.
X-ALT-DESC;FMTTYPE=text/html:<span style="font-size: 10pt\;"><font face="Calibri"><font color="#000000">Come out and try the newest technology in the game.<span style="mso-spacerun: yes\;">&nbsp\; </span>Properly fitted equipment is guaranteed to make a difference in your game.<span style="mso-spacerun: yes\;">&nbsp\; </span>Special pricing will be available during the demo days.<o:p></o:p></font></font></span><font color="#000000" face="Times New Roman" size="3"> </font><span style="font-size: 10pt\;"><font color="#000000"><font face="Calibri"><span style="mso-spacerun: yes\;">&nbsp\;</span>Leading golf club manufacturers will have their latest equipment available for men\, women\, youth\, and seniors to demo.&nbsp\;&nbsp\;Please&nbsp\;visit&nbsp\;our website for dates and times.&nbsp\;&nbsp\;&nbsp\;</font></font></span><font color="#000000" face="Times New Roman" size="3"> </font>
LOCATION:Sugar Creek Golf Course
UID:e.333.5209
SEQUENCE:3
DTSTAMP:20260422T180558Z
URL:https://chambermaster.elmhurstchamber.org/events/details/club-fitting-demo-days-05-01-2013-5209
END:VEVENT

END:VCALENDAR
