BEGIN:VCALENDAR
VERSION:2.0
PRODID:-//ChamberMaster//Event Calendar 2.0//EN
METHOD:PUBLISH
X-PUBLISHED-TTL:P3D
REFRESH-INTERVAL:P3D
CALSCALE:GREGORIAN
BEGIN:VEVENT
DTSTART:20130531T143000Z
DTEND:20130531T153000Z
X-MICROSOFT-CDO-ALLDAYEVENT:FALSE
SUMMARY:Coffee Club
DESCRIPTION:You're invited to join us at the next meeting of our coffee club.\nDiscussing current events\, the economy and investing\, in a relaxed informal setting\, is a great way to get to know one another. \n\n\n\nCoffee & doughnuts are on us.\n\n\n\nFeel Free to bring a friend. Call 630-530-2138 by 05/30/2013 to let us know you're coming. Space is limited.\n\n\n\nHosted by: Nicholas Torres
X-ALT-DESC;FMTTYPE=text/html:<h3 style="color: blue\;">\n	You&#39\;re invited to join us at the next meeting of our coffee club.</h3>\n<strong>Discussing current events\, the economy and investing\, in a relaxed informal setting\, is a great way to get to know one another. </strong><br />\n<br />\n<strong>Coffee &amp\; doughnuts are on us.<br />\n<br />\nFeel Free to bring a friend. Call 630-530-2138 by 05/30/2013 to let us know you&#39\;re coming. Space is limited.<br />\n<br />\nHosted by: Nicholas Torres</strong>
LOCATION:Edward Jones Branch Office 418C N York Rd Elmhurst\, IL 60126
UID:e.333.5310
SEQUENCE:3
DTSTAMP:20260422T180456Z
URL:https://chambermaster.elmhurstchamber.org/events/details/coffee-club-05-31-2013-5310
END:VEVENT

END:VCALENDAR
