BEGIN:VCALENDAR
VERSION:2.0
PRODID:-//ChamberMaster//Event Calendar 2.0//EN
METHOD:PUBLISH
X-PUBLISHED-TTL:P3D
REFRESH-INTERVAL:P3D
CALSCALE:GREGORIAN
BEGIN:VEVENT
DTSTART:20110309T002000Z
DTEND:20110309T020000Z
X-MICROSOFT-CDO-ALLDAYEVENT:FALSE
SUMMARY:College Prep Workshop
DESCRIPTION:For parents and college bound students: Parents receive an education on college funding strategies. Students receive an education on college entrance requirements including explanations of the ACT and SAT examinations.
X-ALT-DESC;FMTTYPE=text/html:For parents and college bound students: Parents receive an education on college funding strategies. Students receive an education on college entrance requirements including explanations of the ACT and SAT examinations. 
LOCATION:Kopper Kitchen Restaurant 601 W. St. Charles Rd. (at Route 83) Elmhurst\, IL 60126
UID:e.333.3864
SEQUENCE:3
DTSTAMP:20260425T233658Z
URL:https://chambermaster.elmhurstchamber.org/events/details/college-prep-workshop-03-08-2011-3864
END:VEVENT

END:VCALENDAR
