BEGIN:VCALENDAR
VERSION:2.0
PRODID:-//ChamberMaster//Event Calendar 2.0//EN
METHOD:PUBLISH
X-PUBLISHED-TTL:P3D
REFRESH-INTERVAL:P3D
CALSCALE:GREGORIAN
BEGIN:VEVENT
DTSTART;VALUE=DATE:20120704
DTEND;VALUE=DATE:20120705
TRANSP:TRANSPARENT
X-MICROSOFT-CDO-ALLDAYEVENT:TRUE
SUMMARY:Community Bank of Elmhurst 4 on the 4th
DESCRIPTION:Join the Community Bank of Elmhurst and the Elmhurst Runners Club for a 4 mile run on the 4th of July.  It starts at Elmhurst College\, located at 190 Prospect Ave. at 7:15 am.  \n\n\n\nThe cost is $25 per adult and $10 for children under 12.  To pay online please go to www.4on4th.com
X-ALT-DESC;FMTTYPE=text/html:Join&nbsp\;the Community&nbsp\;Bank of Elmhurst and the Elmhurst Runners Club for a&nbsp\;4 mile run on&nbsp\;the 4th of July.&nbsp\;&nbsp\;It starts at Elmhurst College\, located at 190 Prospect Ave. at 7:15 am.&nbsp\;&nbsp\;<br />\n<br />\nThe cost is&nbsp\;$25 per adult and $10 for children under 12.&nbsp\;&nbsp\;To pay online&nbsp\;please go to&nbsp\;www.4on4th.com&nbsp\;
LOCATION:190 Prospect Avenue\, Elmhurst\, IL 60126
UID:e.333.4896
SEQUENCE:3
DTSTAMP:20260424T212640Z
URL:https://chambermaster.elmhurstchamber.org/events/details/community-bank-of-elmhurst-4-on-the-4th-07-04-2012-4896
END:VEVENT

END:VCALENDAR
