BEGIN:VCALENDAR
VERSION:2.0
PRODID:-//ChamberMaster//Event Calendar 2.0//EN
METHOD:PUBLISH
X-PUBLISHED-TTL:P3D
REFRESH-INTERVAL:P3D
CALSCALE:GREGORIAN
BEGIN:VEVENT
DTSTART:20110704T121500Z
DTEND:20110704T140000Z
X-MICROSOFT-CDO-ALLDAYEVENT:FALSE
SUMMARY:Community Bank of Elmhurst 4 on the 4th Runner's Race
DESCRIPTION:A four mile CARA-Circuit runner's race through downtown Elmhurst which is held by the Elmhurst Runner's Club.
X-ALT-DESC;FMTTYPE=text/html:A four mile CARA-Circuit runner's race through downtown Elmhurst which is held by the Elmhurst Runner's Club.
LOCATION:Starting on Prospect between Wilder Park and Elmhurst College\, in front of the Wilder Mansion.
UID:e.333.4105
SEQUENCE:3
DTSTAMP:20260425T161858Z
URL:https://chambermaster.elmhurstchamber.org/events/details/community-bank-of-elmhurst-4-on-the-4th-runner-s-race-07-04-2011-4105
END:VEVENT

END:VCALENDAR
