BEGIN:VCALENDAR
VERSION:2.0
PRODID:-//ChamberMaster//Event Calendar 2.0//EN
METHOD:PUBLISH
X-PUBLISHED-TTL:P3D
REFRESH-INTERVAL:P3D
CALSCALE:GREGORIAN
BEGIN:VEVENT
DTSTART:20101106T150000Z
DTEND:20101106T160000Z
X-MICROSOFT-CDO-ALLDAYEVENT:FALSE
SUMMARY:Community Conversations: Senior Options for Living Well in Elmhurst
DESCRIPTION:The Elmhurst Senior Citizens Commission is presenting this program which will give seniors and their families options for staying in Elmhurst as they age.  Ten presenters will give a brief overview of their senior retirement community or housing option.
X-ALT-DESC;FMTTYPE=text/html:The Elmhurst Senior Citizens Commission is presenting this program which will give seniors and their families options for staying in Elmhurst as they age.  Ten presenters will give a brief overview of their senior retirement community or housing option.
LOCATION:Elmhurst City Hall 209 N. York St.
UID:e.333.3512
SEQUENCE:3
DTSTAMP:20260426T043011Z
URL:https://chambermaster.elmhurstchamber.org/events/details/community-conversations-senior-options-for-living-well-in-elmhurst-11-06-2010-3512
END:VEVENT

END:VCALENDAR
