BEGIN:VCALENDAR
VERSION:2.0
PRODID:-//ChamberMaster//Event Calendar 2.0//EN
METHOD:PUBLISH
X-PUBLISHED-TTL:P3D
REFRESH-INTERVAL:P3D
CALSCALE:GREGORIAN
BEGIN:VEVENT
DTSTART;VALUE=DATE:20110726
DTEND;VALUE=DATE:20110727
TRANSP:TRANSPARENT
X-MICROSOFT-CDO-ALLDAYEVENT:TRUE
SUMMARY:Community Day and Open House
DESCRIPTION:Elm Brook Healthcare and Rehabilitation Centre\n\nYou are cordially invited to join us for our Open House!\n\n\n\n11:00am - Ribbon Cutting Ceremony (Support by the Chamber Green Jacket Ambassadors and Elmhurst Mayor)  \n\n12:00am to 2:00pm - Barbecue\, Bingo and Casino (for seniors)\n\n4:00pm to 6:00pm - Hors d'oeuvres\, Smooth Jazz\, Cocktails and Refreshments (Professional Event)\n\n\n\nPlease RSVP by July 20\, 2011 at 630-530-5225 or acohen@elmbrookrehab.com
X-ALT-DESC;FMTTYPE=text/html:Elm Brook Healthcare and Rehabilitation Centre<br />\nYou are cordially invited to join us for our Open House!<br />\n<br />\n11:00am - Ribbon Cutting Ceremony (Support by the Chamber Green Jacket Ambassadors and Elmhurst Mayor)&nbsp\;&nbsp\;<br />\n12:00am to 2:00pm - Barbecue\, Bingo and Casino (for seniors)<br />\n4:00pm to 6:00pm - Hors d&#39\;oeuvres\, Smooth Jazz\, Cocktails and Refreshments (Professional Event)<br />\n<br />\nPlease RSVP by July 20\, 2011 at 630-530-5225 or <a href="mailto:acohen@elmbrookrehab.com">acohen@elmbrookrehab.com</a><br />\n
LOCATION:127 W. Diversey Avenue\, Elmhurst\, IL 60126
UID:e.333.4252
SEQUENCE:3
DTSTAMP:20260425T161502Z
URL:https://chambermaster.elmhurstchamber.org/events/details/community-day-and-open-house-07-26-2011-4252
END:VEVENT

END:VCALENDAR
