BEGIN:VCALENDAR
VERSION:2.0
PRODID:-//ChamberMaster//Event Calendar 2.0//EN
METHOD:PUBLISH
X-PUBLISHED-TTL:P3D
REFRESH-INTERVAL:P3D
CALSCALE:GREGORIAN
BEGIN:VEVENT
DTSTART:20120711T000000Z
DTEND:20120711T010000Z
X-MICROSOFT-CDO-ALLDAYEVENT:FALSE
SUMMARY:Concerts in Wilder Park
DESCRIPTION:Enjoy the Elmhurst Summer String Orchestra perform outside in Wilder Park on Tuesday\, July 10 at 7:00 p.m.
X-ALT-DESC;FMTTYPE=text/html:<p>\n	<span style="font-size: 11pt"><font color="#000000">Enjoy the Elmhurst Summer String Orchestra perform&nbsp\;outside in Wilder Park on Tuesday\, July 10 at 7:00 p.m.<o:p></o:p></font></span></p>\n
LOCATION:Wilder Park
UID:e.333.4867
SEQUENCE:3
DTSTAMP:20260424T225927Z
URL:https://chambermaster.elmhurstchamber.org/events/details/concerts-in-wilder-park-07-10-2012-4867
END:VEVENT

END:VCALENDAR
