BEGIN:VCALENDAR
VERSION:2.0
PRODID:-//ChamberMaster//Event Calendar 2.0//EN
METHOD:PUBLISH
X-PUBLISHED-TTL:P3D
REFRESH-INTERVAL:P3D
CALSCALE:GREGORIAN
BEGIN:VEVENT
DTSTART:20120718T000000Z
DTEND:20120718T010000Z
X-MICROSOFT-CDO-ALLDAYEVENT:FALSE
SUMMARY:Concerts in Wilder Park
DESCRIPTION:Listen to the Elmhurst Community Band in Wilder Park on Tuesday\, July 17 at 7:00 p.m.
X-ALT-DESC;FMTTYPE=text/html:<p>\n	<span style="font-size: 11pt"><font color="#000000">Listen to the Elmhurst Community Band in Wilder Park on Tuesday\, July 17 at 7:00 p.m.<o:p></o:p></font></span></p>\n
LOCATION:Wilder Park
UID:e.333.4868
SEQUENCE:3
DTSTAMP:20260424T212234Z
URL:https://chambermaster.elmhurstchamber.org/events/details/concerts-in-wilder-park-07-17-2012-4868
END:VEVENT

END:VCALENDAR
