BEGIN:VCALENDAR
VERSION:2.0
PRODID:-//ChamberMaster//Event Calendar 2.0//EN
METHOD:PUBLISH
X-PUBLISHED-TTL:P3D
REFRESH-INTERVAL:P3D
CALSCALE:GREGORIAN
BEGIN:VEVENT
DTSTART:20120725T000000Z
DTEND:20120725T010000Z
X-MICROSOFT-CDO-ALLDAYEVENT:FALSE
SUMMARY:Concerts in Wilder Park
DESCRIPTION:Come hear the sounds of the Elmhurst Community Jazz Band on Tuesday\, July 24 at 7:00 p.m. in Wilder Park.
X-ALT-DESC;FMTTYPE=text/html:<p>\n	<span style="font-size: 11pt"><font color="#000000">Come hear the sounds of the Elmhurst Community Jazz Band on Tuesday\, July 24 at 7:00 p.m. in Wilder Park.<o:p></o:p></font></span></p>\n
LOCATION:Wilder Park
UID:e.333.4869
SEQUENCE:3
DTSTAMP:20260424T212239Z
URL:https://chambermaster.elmhurstchamber.org/events/details/concerts-in-wilder-park-07-24-2012-4869
END:VEVENT

END:VCALENDAR
