BEGIN:VCALENDAR
VERSION:2.0
PRODID:-//ChamberMaster//Event Calendar 2.0//EN
METHOD:PUBLISH
X-PUBLISHED-TTL:P3D
REFRESH-INTERVAL:P3D
CALSCALE:GREGORIAN
BEGIN:VEVENT
DTSTART:20110118T220000Z
DTEND:20110119T000000Z
X-MICROSOFT-CDO-ALLDAYEVENT:FALSE
SUMMARY:Congratulations on your New Business!! ..Now What??
DESCRIPTION:You have found the thing you are passionate about AND you are  hoping to make money from it! You are among the fast-growing population of small business owners here in America. Now that you have your vision in mind\, it is time to get to work on how to grow. At this powerful educational seminar\, we will discuss strategy and tactical decisons as well as structural\, non-recurring decisions.
X-ALT-DESC;FMTTYPE=text/html:You have found the thing you are passionate about AND you are  hoping to make money from it! You are among the fast-growing population of small business owners here in America. Now that you have your vision in mind\, it is time to get to work on how to grow. At this powerful educational seminar\, we will discuss strategy and tactical decisons as well as structural\, non-recurring decisions.
LOCATION:The Top Floor 232 South Batavia Avenue (aka US Route 31) Batavia\, Illinois 60510
UID:e.333.3702
SEQUENCE:3
DTSTAMP:20260426T011155Z
URL:https://chambermaster.elmhurstchamber.org/events/details/congratulations-on-your-new-business-now-what-01-18-2011-3702
END:VEVENT

END:VCALENDAR
