BEGIN:VCALENDAR
VERSION:2.0
PRODID:-//ChamberMaster//Event Calendar 2.0//EN
METHOD:PUBLISH
X-PUBLISHED-TTL:P3D
REFRESH-INTERVAL:P3D
CALSCALE:GREGORIAN
BEGIN:VEVENT
DTSTART:20121208T210000Z
DTEND:20121208T223000Z
X-MICROSOFT-CDO-ALLDAYEVENT:FALSE
SUMMARY:Courts Plus Family Holiday Party
DESCRIPTION:Ages 3 and older (for drop-off) Parents may stay or drop-off\n\nSure to be a favorite! Celebrate the holiday with your family at Courts Plus. We will have great entertainment\, snacks\, a visit with Santa\, and you can make some holiday family heirlooms.
X-ALT-DESC;FMTTYPE=text/html:<br />\nAges 3 and older (for drop-off) Parents may stay or drop-off<br />\nSure to be a favorite! Celebrate the holiday with your family at Courts Plus. We will have great entertainment\, snacks\, a visit with Santa\, and you can make some holiday family heirlooms.&nbsp\; 
LOCATION:Courts Plus Kids Plus
UID:e.333.5108
SEQUENCE:3
DTSTAMP:20260424T132214Z
URL:https://chambermaster.elmhurstchamber.org/events/details/courts-plus-family-holiday-party-12-08-2012-5108
END:VEVENT

END:VCALENDAR
