BEGIN:VCALENDAR
VERSION:2.0
PRODID:-//ChamberMaster//Event Calendar 2.0//EN
METHOD:PUBLISH
X-PUBLISHED-TTL:P3D
REFRESH-INTERVAL:P3D
CALSCALE:GREGORIAN
BEGIN:VEVENT
DTSTART:20130413T140000Z
DTEND:20130413T170000Z
X-MICROSOFT-CDO-ALLDAYEVENT:FALSE
SUMMARY:Courts Plus Health Fair
DESCRIPTION:Come check our Courts Plus Health Fair on Saturday\, April 13 from 9 a.m. to noon.  Give blood\, get important health screenings\, visit with a Courts Plus Personal trainer and much more.  Your health is important to us so don't miss out on this free event!
X-ALT-DESC;FMTTYPE=text/html:<p class="MsoNormal" style="margin: 0in 0in 0pt 0.1in\;">\n	<span style="font-size: 10pt\;"><font color="#000000"><font face="Calibri">Come check our Courts Plus Health Fair on Saturday\, April 13 from 9 a.m. to&nbsp\;noon.<span style="mso-spacerun: yes\;">&nbsp\; </span>Give blood\, get important health screenings\, visit with a Courts Plus Personal trainer and much more.<span style="mso-spacerun: yes\;">&nbsp\; </span>Your health is important to us so don&rsquo\;t miss out on this free event!<o:p></o:p></font></font></span></p>\n
LOCATION:Courts Plus
UID:e.333.5193
SEQUENCE:3
DTSTAMP:20260422T194226Z
URL:https://chambermaster.elmhurstchamber.org/events/details/courts-plus-health-fair-04-13-2013-5193
END:VEVENT

END:VCALENDAR
