BEGIN:VCALENDAR
VERSION:2.0
PRODID:-//ChamberMaster//Event Calendar 2.0//EN
METHOD:PUBLISH
X-PUBLISHED-TTL:P3D
REFRESH-INTERVAL:P3D
CALSCALE:GREGORIAN
BEGIN:VEVENT
DTSTART:20131018T230000Z
DTEND:20131019T003000Z
X-MICROSOFT-CDO-ALLDAYEVENT:FALSE
SUMMARY:Courts Plus Healthy Halloween Party
DESCRIPTION:Ages 3-10\n\n	Let your child celebrate Halloween the healthy Courts Plus way!  Children ages 3-10 can come dressed in costume and will exercise\, hunt for pumpkins\, dance\, trick-or-treat and make spooky crafts.  Parents are welcome to watch this fun healthy celebration.  This program is a way to help the United Community Concerns holiday food collection for families in need.
X-ALT-DESC;FMTTYPE=text/html:<p class="MsoNormal" style="margin: 0in 0in 0pt 0.1in\;">\n	<font color="#000000" face="Calibri" size="3">Ages 3-10</font></p>\n<p class="MsoNormal" style="margin: 0in 0in 0pt 0.1in\;">\n	<font color="#000000" face="Calibri" size="3">Let your child celebrate Halloween the healthy Courts Plus way!<span style="mso-spacerun: yes\;">&nbsp\; </span>Children ages 3-10 can come dressed in costume and will exercise\, hunt for pumpkins\, dance\, trick-or-treat and make spooky crafts.<span style="mso-spacerun: yes\;">&nbsp\; </span>Parents are welcome to watch this fun healthy celebration.<span style="mso-spacerun: yes\;">&nbsp\; </span>This program is a way to help the United Community Concerns holiday food collection for families in need.</font></p>\n
LOCATION:Courts Plus Kids Plus Elmhurst\, IL 60126
UID:e.333.5577
SEQUENCE:3
DTSTAMP:20260422T111723Z
URL:https://chambermaster.elmhurstchamber.org/events/details/courts-plus-healthy-halloween-party-10-18-2013-5577
END:VEVENT

END:VCALENDAR
