BEGIN:VCALENDAR
VERSION:2.0
PRODID:-//ChamberMaster//Event Calendar 2.0//EN
METHOD:PUBLISH
X-PUBLISHED-TTL:P3D
REFRESH-INTERVAL:P3D
CALSCALE:GREGORIAN
BEGIN:VEVENT
DTSTART:20110514T150000Z
DTEND:20110514T200000Z
X-MICROSOFT-CDO-ALLDAYEVENT:FALSE
SUMMARY:Craft Show and Vendor Expo
DESCRIPTION:Come out and see the amazing products and services that these budding entrepreneurs have to offer. There are lots of unique items being sold and see how people are using their skills and talents to survive in today's tough economy!\n\n\n\nTables are still available! There will also be Door Prizes and Raffle Drawings!
X-ALT-DESC;FMTTYPE=text/html:Come out and see the amazing products and services that these budding entrepreneurs have to offer. There are lots of unique items being sold and see how people are using their skills and talents to survive in today&#39\;s tough economy!<br />\n<br />\nTables are still available! There will also be Door Prizes and Raffle Drawings!
LOCATION:The Normandy Room Banquet Facility 310 West Butterfield Road Elmhurst\, IL 60126 6666
UID:e.333.4175
SEQUENCE:3
DTSTAMP:20260425T192228Z
URL:https://chambermaster.elmhurstchamber.org/events/details/craft-show-and-vendor-expo-05-14-2011-4175
END:VEVENT

END:VCALENDAR
